BEGIN:VCALENDAR
VERSION:2.0
CREATED:20260423T203339Z
PRODID:-//Mach Natural Resources LP/Equisolve Calendar v1.0//EN
METHOD:PUBLISH
BEGIN:VEVENT
UID:eb5252b1442dc76c72468f7e2db88e3b
DTSTAMP:20260424T115744Z
DTSTART:20260508T140000Z
DTEND:20260508T150000Z
SUMMARY:First Quarter 2026 Earnings Conference Call
DESCRIPTION:First Quarter 2026 Earnings Conference Call\nDate: May 8\, 2026 9:00 am CDT
END:VEVENT
END:VCALENDAR
